BEGIN:VCALENDAR
VERSION:2.0
PRODID:-//Käerjeng - ECPv5.2.1//NONSGML v1.0//EN
CALSCALE:GREGORIAN
METHOD:PUBLISH
X-WR-CALNAME:Käerjeng
X-ORIGINAL-URL:https://kaerjeng.lu
X-WR-CALDESC:évènements pour Käerjeng
BEGIN:VTIMEZONE
TZID:Europe/Luxembourg
BEGIN:DAYLIGHT
TZOFFSETFROM:+0100
TZOFFSETTO:+0200
TZNAME:CEST
DTSTART:20200329T010000
END:DAYLIGHT
BEGIN:STANDARD
TZOFFSETFROM:+0200
TZOFFSETTO:+0100
TZNAME:CET
DTSTART:20201025T010000
END:STANDARD
END:VTIMEZONE
BEGIN:VEVENT
DTSTART;TZID=Europe/Luxembourg:20201119T190000
DTEND;TZID=Europe/Luxembourg:20201119T230000
DTSTAMP:20210426T182603
CREATED:20201009T090253Z
LAST-MODIFIED:20201029T080419Z
UID:15395-1605812400-1605826800@kaerjeng.lu
SUMMARY:ANNULE RTL Déckkäpp
DESCRIPTION:
URL:https://kaerjeng.lu/evenement/rtl-deckkapp-2/
LOCATION:Käerjenger Treff\, 54c\, avenue de Luxembourg\, Bascharage\, Luxembourg
ATTACH;FMTTYPE=image/png:https://kaerjeng.lu/wp-content/uploads/2020/05/event.png
END:VEVENT
END:VCALENDAR