BEGIN:VCALENDAR
VERSION:2.0
PRODID:-//Käerjeng - ECPv5.2.1//NONSGML v1.0//EN
CALSCALE:GREGORIAN
METHOD:PUBLISH
X-WR-CALNAME:Käerjeng
X-ORIGINAL-URL:https://kaerjeng.lu
X-WR-CALDESC:évènements pour Käerjeng
BEGIN:VTIMEZONE
TZID:Europe/Luxembourg
BEGIN:DAYLIGHT
TZOFFSETFROM:+0100
TZOFFSETTO:+0200
TZNAME:CEST
DTSTART:20200329T010000
END:DAYLIGHT
BEGIN:STANDARD
TZOFFSETFROM:+0200
TZOFFSETTO:+0100
TZNAME:CET
DTSTART:20201025T010000
END:STANDARD
END:VTIMEZONE
BEGIN:VEVENT
DTSTART;TZID=Europe/Luxembourg:20200618T140000
DTEND;TZID=Europe/Luxembourg:20200618T180000
DTSTAMP:20210426T181327
CREATED:20200211T081106Z
LAST-MODIFIED:20200211T081106Z
UID:10526-1592488800-1592503200@kaerjeng.lu
SUMMARY:Concours public
DESCRIPTION:
URL:https://kaerjeng.lu/evenement/concours-public-3/
LOCATION:Käerjenger Treff\, 54c\, avenue de Luxembourg\, Bascharage\, Luxembourg
ATTACH;FMTTYPE=image/png:https://kaerjeng.lu/wp-content/uploads/2020/05/event.png
END:VEVENT
END:VCALENDAR