BEGIN:VCALENDAR
VERSION:2.0
PRODID:-//Käerjeng - ECPv5.2.1//NONSGML v1.0//EN
CALSCALE:GREGORIAN
METHOD:PUBLISH
X-WR-CALNAME:Käerjeng
X-ORIGINAL-URL:https://kaerjeng.lu
X-WR-CALDESC:évènements pour Käerjeng
BEGIN:VTIMEZONE
TZID:Europe/Luxembourg
BEGIN:DAYLIGHT
TZOFFSETFROM:+0100
TZOFFSETTO:+0200
TZNAME:CEST
DTSTART:20200329T010000
END:DAYLIGHT
BEGIN:STANDARD
TZOFFSETFROM:+0200
TZOFFSETTO:+0100
TZNAME:CET
DTSTART:20201025T010000
END:STANDARD
END:VTIMEZONE
BEGIN:VEVENT
DTSTART;TZID=Europe/Luxembourg:20201114T200000
DTEND;TZID=Europe/Luxembourg:20201114T230000
DTSTAMP:20210426T182014
CREATED:20201009T085628Z
LAST-MODIFIED:20201027T101450Z
UID:15390-1605384000-1605394800@kaerjeng.lu
SUMMARY:ANNULE Cäcilienconcert
DESCRIPTION:
URL:https://kaerjeng.lu/evenement/cacilienconcert/
LOCATION:Käerjenger Treff\, 54c\, avenue de Luxembourg\, Bascharage\, Luxembourg
ATTACH;FMTTYPE=image/jpeg:https://kaerjeng.lu/wp-content/uploads/2020/10/mathew-schwartz-E1n-5Emx38M-unsplash.jpg
END:VEVENT
END:VCALENDAR