BEGIN:VCALENDAR
VERSION:2.0
PRODID:-//Site de la commune de Kaerjeng/Bascharage - ECPv4.9.12//NONSGML v1.0//EN
CALSCALE:GREGORIAN
METHOD:PUBLISH
X-WR-CALNAME:Site de la commune de Kaerjeng/Bascharage
X-ORIGINAL-URL:https://kaerjeng.lu
X-WR-CALDESC:Évènements pour Site de la commune de Kaerjeng/Bascharage
BEGIN:VTIMEZONE
TZID:Europe/Luxembourg
BEGIN:DAYLIGHT
TZOFFSETFROM:+0100
TZOFFSETTO:+0200
TZNAME:CEST
DTSTART:20200329T010000
END:DAYLIGHT
BEGIN:STANDARD
TZOFFSETFROM:+0200
TZOFFSETTO:+0100
TZNAME:CET
DTSTART:20201025T010000
END:STANDARD
END:VTIMEZONE
BEGIN:VEVENT
DTSTART;TZID=Europe/Luxembourg:20200707T140000
DTEND;TZID=Europe/Luxembourg:20200707T170000
DTSTAMP:20200811T013604
CREATED:20200211T092136Z
LAST-MODIFIED:20200416T094243Z
UID:10548-1594123200-1594134000@kaerjeng.lu
SUMMARY:ANNULE Concours public - Musekschoul
DESCRIPTION:
URL:https://kaerjeng.lu/agenda/concours-public-6/
LOCATION:Käerjenger Treff\, 54c\, avenue de Luxembourg\, Bascharage\, Luxembourg
ATTACH;FMTTYPE=image/jpeg:https://kaerjeng.lu/wp-content/uploads/2020/02/antoine-julien-XHobt5FaqTo-unsplash-scaled.jpg
END:VEVENT
BEGIN:VEVENT
DTSTART;TZID=Europe/Luxembourg:20200707T200000
DTEND;TZID=Europe/Luxembourg:20200707T233000
DTSTAMP:20200811T013604
CREATED:20200211T092218Z
LAST-MODIFIED:20200416T094311Z
UID:10550-1594144800-1594157400@kaerjeng.lu
SUMMARY:ANNULE Demie-Finale 1 Euro 2020
DESCRIPTION:
URL:https://kaerjeng.lu/agenda/demie-finale-1-euro-2020/
LOCATION:Bascharage – Place Claus Cito
ATTACH;FMTTYPE=image/jpeg:https://kaerjeng.lu/wp-content/uploads/2020/02/tevarak-phanduang-eOvv4N6yNmk-unsplash-scaled.jpg
END:VEVENT
BEGIN:VEVENT
DTSTART;TZID=Europe/Luxembourg:20200708T140000
DTEND;TZID=Europe/Luxembourg:20200708T160000
DTSTAMP:20200811T013604
CREATED:20200211T092417Z
LAST-MODIFIED:20200416T094328Z
UID:10552-1594209600-1594216800@kaerjeng.lu
SUMMARY:ANNULE Schoulfest
DESCRIPTION:
URL:https://kaerjeng.lu/agenda/schoulfest/
LOCATION:Bascharage – Place Claus Cito
ATTACH;FMTTYPE=image/jpeg:https://kaerjeng.lu/wp-content/uploads/2020/02/bernard-hermant-5zu86kyV_UY-unsplash-scaled.jpg
END:VEVENT
BEGIN:VEVENT
DTSTART;TZID=Europe/Luxembourg:20200708T200000
DTEND;TZID=Europe/Luxembourg:20200708T233000
DTSTAMP:20200811T013604
CREATED:20200211T092451Z
LAST-MODIFIED:20200416T094340Z
UID:10554-1594231200-1594243800@kaerjeng.lu
SUMMARY:ANNULE Demie-Finale 2 Euro 2020
DESCRIPTION:
URL:https://kaerjeng.lu/agenda/demie-finale-2-euro-2020/
LOCATION:Bascharage – Place Claus Cito
ATTACH;FMTTYPE=image/jpeg:https://kaerjeng.lu/wp-content/uploads/2020/02/tevarak-phanduang-eOvv4N6yNmk-unsplash-scaled.jpg
END:VEVENT
BEGIN:VEVENT
DTSTART;TZID=Europe/Luxembourg:20200709T140000
DTEND;TZID=Europe/Luxembourg:20200709T163000
DTSTAMP:20200811T013604
CREATED:20200211T092525Z
LAST-MODIFIED:20200416T094404Z
UID:10556-1594296000-1594305000@kaerjeng.lu
SUMMARY:ANNULE Open Air Kino fir Kanner
DESCRIPTION:
URL:https://kaerjeng.lu/agenda/open-air-kino-fir-kanner/
LOCATION:Bascharage – Place Claus Cito
ATTACH;FMTTYPE=image/jpeg:https://kaerjeng.lu/wp-content/uploads/2020/02/jeremy-yap-J39X2xX_8CQ-unsplash-scaled.jpg
END:VEVENT
BEGIN:VEVENT
DTSTART;TZID=Europe/Luxembourg:20200709T190000
DTEND;TZID=Europe/Luxembourg:20200709T210000
DTSTAMP:20200811T013604
CREATED:20200211T092601Z
LAST-MODIFIED:20200416T094418Z
UID:10558-1594314000-1594321200@kaerjeng.lu
SUMMARY:ANNULE Ofschlossfeier Owescoursen
DESCRIPTION:Kulturkommissioun Gemeng Käerjeng \n
URL:https://kaerjeng.lu/agenda/ofschlossfeier-owescoursen/
LOCATION:Bascharage – Place Claus Cito
ATTACH;FMTTYPE=image/jpeg:https://kaerjeng.lu/wp-content/uploads/2018/07/DSC_1158.jpg
END:VEVENT
BEGIN:VEVENT
DTSTART;TZID=Europe/Luxembourg:20200710T210000
DTEND;TZID=Europe/Luxembourg:20200710T233000
DTSTAMP:20200811T013604
CREATED:20200211T092632Z
LAST-MODIFIED:20200416T094430Z
UID:10560-1594407600-1594416600@kaerjeng.lu
SUMMARY:ANNULE Open Air Kino fir Erwuessener
DESCRIPTION:
URL:https://kaerjeng.lu/agenda/open-air-kino-fir-erwuessener/
LOCATION:Bascharage – Place Claus Cito
ATTACH;FMTTYPE=image/jpeg:https://kaerjeng.lu/wp-content/uploads/2020/02/jeremy-yap-J39X2xX_8CQ-unsplash-scaled.jpg
END:VEVENT
BEGIN:VEVENT
DTSTART;TZID=Europe/Luxembourg:20200712T113000
DTEND;TZID=Europe/Luxembourg:20200712T160000
DTSTAMP:20200811T013604
CREATED:20200211T092846Z
LAST-MODIFIED:20200416T094447Z
UID:10566-1594546200-1594562400@kaerjeng.lu
SUMMARY:ANNULE Grillfest - Chorale Sainte Cécile Fingig
DESCRIPTION:
URL:https://kaerjeng.lu/agenda/grillfest/
LOCATION:Fingig Salle des Fêtes
ATTACH;FMTTYPE=image/jpeg:https://kaerjeng.lu/wp-content/uploads/2020/02/paul-hermann-jeiqzOgwwKU-unsplash-scaled.jpg
END:VEVENT
BEGIN:VEVENT
DTSTART;TZID=Europe/Luxembourg:20200712T200000
DTEND;TZID=Europe/Luxembourg:20200712T233000
DTSTAMP:20200811T013604
CREATED:20200211T092735Z
LAST-MODIFIED:20200416T094507Z
UID:10564-1594576800-1594589400@kaerjeng.lu
SUMMARY:ANNULE Finale Euro 2020
DESCRIPTION:
URL:https://kaerjeng.lu/agenda/finale-euro-2020/
LOCATION:Bascharage – Place Claus Cito
ATTACH;FMTTYPE=image/jpeg:https://kaerjeng.lu/wp-content/uploads/2020/02/tevarak-phanduang-eOvv4N6yNmk-unsplash-scaled.jpg
END:VEVENT
BEGIN:VEVENT
DTSTART;TZID=Europe/Luxembourg:20200713T140000
DTEND;TZID=Europe/Luxembourg:20200713T160000
DTSTAMP:20200811T013604
CREATED:20200211T093658Z
LAST-MODIFIED:20200416T094521Z
UID:10568-1594641600-1594648800@kaerjeng.lu
SUMMARY:ANNULE Schoulfest
DESCRIPTION:
URL:https://kaerjeng.lu/agenda/schoulfest-2/
LOCATION:Clemency – Salle des Fêtes
ATTACH;FMTTYPE=image/jpeg:https://kaerjeng.lu/wp-content/uploads/2017/09/2017-Stemmung-Leit-1076-1.jpg
END:VEVENT
BEGIN:VEVENT
DTSTART;TZID=Europe/Luxembourg:20200714T190000
DTEND;TZID=Europe/Luxembourg:20200714T220000
DTSTAMP:20200811T013604
CREATED:20200211T093849Z
LAST-MODIFIED:20200416T094535Z
UID:10570-1594746000-1594756800@kaerjeng.lu
SUMMARY:ANNULE Remise des diplômes
DESCRIPTION:
URL:https://kaerjeng.lu/agenda/remise-des-diplomes/
LOCATION:Käerjenger Treff\, 54c\, avenue de Luxembourg\, Bascharage\, Luxembourg
ATTACH;FMTTYPE=image/jpeg:https://kaerjeng.lu/wp-content/uploads/2020/02/antoine-julien-XHobt5FaqTo-unsplash-scaled.jpg
END:VEVENT
BEGIN:VEVENT
DTSTART;TZID=Europe/Luxembourg:20200715T193000
DTEND;TZID=Europe/Luxembourg:20200716T220000
DTSTAMP:20200811T013604
CREATED:20200211T093937Z
LAST-MODIFIED:20200416T094549Z
UID:10572-1594834200-1594929600@kaerjeng.lu
SUMMARY:ANNULE Mémorial Jean Justen a Jos Bloes
DESCRIPTION:
URL:https://kaerjeng.lu/agenda/memorial-jean-justen-a-jos-bloes/
LOCATION:Bascharage – Dribbel
ATTACH;FMTTYPE=image/jpeg:https://kaerjeng.lu/wp-content/uploads/2020/02/tevarak-phanduang-eOvv4N6yNmk-unsplash-scaled.jpg
END:VEVENT
BEGIN:VEVENT
DTSTART;VALUE=DATE:20200717
DTEND;VALUE=DATE:20200720
DTSTAMP:20200811T013604
CREATED:20200211T094125Z
LAST-MODIFIED:20200416T094606Z
UID:10575-1594936800-1595195999@kaerjeng.lu
SUMMARY:ANNULE Béiergaart - Handball Käerjeng
DESCRIPTION:
URL:https://kaerjeng.lu/agenda/beiergaart/
LOCATION:Bascharage – Tennis
ATTACH;FMTTYPE=image/jpeg:https://kaerjeng.lu/wp-content/uploads/2020/02/34533196436_f30c001db8_o.jpg
END:VEVENT
BEGIN:VEVENT
DTSTART;TZID=Europe/Luxembourg:20200718T193000
DTEND;TZID=Europe/Luxembourg:20200718T220000
DTSTAMP:20200811T013604
CREATED:20200211T094233Z
LAST-MODIFIED:20200416T094619Z
UID:10578-1595093400-1595102400@kaerjeng.lu
SUMMARY:ANNULE PaëllaOwend - TC Kéinzig
DESCRIPTION:
URL:https://kaerjeng.lu/agenda/paellaowend/
LOCATION:Clemency – Place de la Gare
ATTACH;FMTTYPE=image/jpeg:https://kaerjeng.lu/wp-content/uploads/2020/02/annie-spratt-uuaoIvWKOrg-unsplash-scaled.jpg
END:VEVENT
BEGIN:VEVENT
DTSTART;TZID=Europe/Luxembourg:20200719T160000
DTEND;TZID=Europe/Luxembourg:20200719T190000
DTSTAMP:20200811T013604
CREATED:20200211T094327Z
LAST-MODIFIED:20200416T094634Z
UID:10582-1595167200-1595178000@kaerjeng.lu
SUMMARY:ANNULE Mémorial Jean Justen a Jos Bloes
DESCRIPTION:
URL:https://kaerjeng.lu/agenda/memorial-jean-justen-a-jos-bloes-2/
LOCATION:Bascharage – Dribbel
ATTACH;FMTTYPE=image/jpeg:https://kaerjeng.lu/wp-content/uploads/2020/02/tevarak-phanduang-eOvv4N6yNmk-unsplash-scaled.jpg
END:VEVENT
BEGIN:VEVENT
DTSTART;TZID=Europe/Luxembourg:20200720T133000
DTEND;TZID=Europe/Luxembourg:20200731T170000
DTSTAMP:20200811T013604
CREATED:20200211T094425Z
LAST-MODIFIED:20200213T145544Z
UID:10584-1595244600-1596207600@kaerjeng.lu
SUMMARY:Semaines Loisirs
DESCRIPTION:
URL:https://kaerjeng.lu/agenda/semaines-loisirs/
LOCATION:Käerjenger Treff\, 54c\, avenue de Luxembourg\, Bascharage\, Luxembourg
ATTACH;FMTTYPE=image/jpeg:https://kaerjeng.lu/wp-content/uploads/2019/01/2018-Semaine-Loisire-1867.jpg
END:VEVENT
BEGIN:VEVENT
DTSTART;TZID=Europe/Luxembourg:20200731T170000
DTEND;TZID=Europe/Luxembourg:20200731T190000
DTSTAMP:20200811T013604
CREATED:20200211T094515Z
LAST-MODIFIED:20200213T145459Z
UID:10587-1596207600-1596214800@kaerjeng.lu
SUMMARY:Ofschlossfeier Semaines Loisirs
DESCRIPTION:
URL:https://kaerjeng.lu/agenda/ofschlossfeier-semaines-loisirs/
LOCATION:Käerjenger Treff\, 54c\, avenue de Luxembourg\, Bascharage\, Luxembourg
ATTACH;FMTTYPE=image/jpeg:https://kaerjeng.lu/wp-content/uploads/2019/01/2018-Semaine-Loisire-1867.jpg
END:VEVENT
BEGIN:VEVENT
DTSTART;TZID=Europe/Luxembourg:20200731T190000
DTEND;TZID=Europe/Luxembourg:20200731T235900
DTSTAMP:20200811T013604
CREATED:20200810T110349Z
LAST-MODIFIED:20200810T151710Z
UID:12280-1596214800-1596232740@kaerjeng.lu
SUMMARY:Käerjenger SummerTreff
DESCRIPTION:
URL:https://kaerjeng.lu/agenda/kaerjenger-summertreff/
LOCATION:Käerjenger Treff\, 54c\, avenue de Luxembourg\, Bascharage\, Luxembourg
ATTACH;FMTTYPE=image/jpeg:https://kaerjeng.lu/wp-content/uploads/2020/07/SummerTreff-Cover.jpg
END:VEVENT
BEGIN:VEVENT
DTSTART;TZID=Europe/Luxembourg:20200801T190000
DTEND;TZID=Europe/Luxembourg:20200801T235900
DTSTAMP:20200811T013604
CREATED:20200810T151540Z
LAST-MODIFIED:20200810T151540Z
UID:12316-1596301200-1596319140@kaerjeng.lu
SUMMARY:Käerjenger SummerTreff
DESCRIPTION:
URL:https://kaerjeng.lu/agenda/kaerjenger-summertreff-14/
LOCATION:Käerjenger Treff\, 54c\, avenue de Luxembourg\, Bascharage\, Luxembourg
ATTACH;FMTTYPE=image/jpeg:https://kaerjeng.lu/wp-content/uploads/2020/07/SummerTreff-Cover.jpg
END:VEVENT
END:VCALENDAR