BEGIN:VCALENDAR
VERSION:2.0
PRODID:-//80.92.90.88//NONSGML kigkonsult.se iCalcreator 2.24.2//
CALSCALE:GREGORIAN
METHOD:PUBLISH
X-WR-CALNAME:Site de la commune de Kaerjeng/Bascharage
X-WR-CALDESC:Site de la commune de Kaerjeng/Bascharage
X-FROM-URL:https://kaerjeng.lu
X-WR-TIMEZONE:Europe/Luxembourg
BEGIN:VTIMEZONE
TZID:Europe/Luxembourg
X-LIC-LOCATION:Europe/Luxembourg
BEGIN:STANDARD
DTSTART:20191027T030000
TZOFFSETFROM:+0200
TZOFFSETTO:+0100
RDATE:20201025T030000
TZNAME:CET
END:STANDARD
BEGIN:DAYLIGHT
DTSTART:20190331T020000
TZOFFSETFROM:+0100
TZOFFSETTO:+0200
RDATE:20200329T020000
TZNAME:CEST
END:DAYLIGHT
END:VTIMEZONE
BEGIN:VEVENT
UID:ai1ec-9043@kaerjeng.lu
DTSTAMP:20190823T200642Z
CATEGORIES:
CONTACT:
DESCRIPTION:
DTSTART;TZID=Europe/Luxembourg:20190706T160000
DTEND;TZID=Europe/Luxembourg:20190706T220000
LOCATION:Bascharage\, Bommertbesch\, 4940 Käerjeng\, Luxembourg
SEQUENCE:0
SUMMARY:Bëschfest – Harmonie Hautcharage
URL:https://kaerjeng.lu/evenement/beschfest-harmonie-hautcharage-2-2/
X-COST-TYPE:free
END:VEVENT
END:VCALENDAR
