BEGIN:VCALENDAR
VERSION:2.0
PRODID:-//80.92.90.88//NONSGML kigkonsult.se iCalcreator 2.24.2//
CALSCALE:GREGORIAN
METHOD:PUBLISH
X-WR-CALNAME:Site de la commune de Kaerjeng/Bascharage
X-WR-CALDESC:Site de la commune de Kaerjeng/Bascharage
X-FROM-URL:https://kaerjeng.lu
X-WR-TIMEZONE:Europe/Luxembourg
BEGIN:VTIMEZONE
TZID:Europe/Luxembourg
X-LIC-LOCATION:Europe/Luxembourg
BEGIN:STANDARD
DTSTART:20191027T030000
TZOFFSETFROM:+0200
TZOFFSETTO:+0100
RDATE:20201025T030000
TZNAME:CET
END:STANDARD
BEGIN:DAYLIGHT
DTSTART:20190331T020000
TZOFFSETFROM:+0100
TZOFFSETTO:+0200
RDATE:20200329T020000
TZNAME:CEST
END:DAYLIGHT
END:VTIMEZONE
BEGIN:VEVENT
UID:ai1ec-8079@kaerjeng.lu
DTSTAMP:20190823T200733Z
CATEGORIES:
CONTACT:
DESCRIPTION:
DTSTART;VALUE=DATE:20190815
DTEND;VALUE=DATE:20190816
LOCATION:Clemency - Terrain de foot
SEQUENCE:0
SUMMARY:Coupe « Heini Veneziano » –  ES Clemency
URL:https://kaerjeng.lu/evenement/coupe-heini-veneziano-es-clemency/
X-COST-TYPE:free
END:VEVENT
END:VCALENDAR
